BEGIN:VCALENDAR
VERSION:2.0
PRODID:icalendar-ruby
CALSCALE:GREGORIAN
METHOD:PUBLISH
BEGIN:VEVENT
DTSTAMP:20260424T131322Z
UID:d61fcb87-6919-48c0-a0d3-376aea9e9b98
DTSTART;VALUE=DATE:20220603
DTEND;VALUE=DATE:20220603
DESCRIPTION:Rock Hill BMX Supercross Track
LOCATION:1307 Riverwalk Parkway  Rock Hill SC 29730 USA
SUMMARY:Local Race Single
URL:/site/bmx_races/493332
END:VEVENT
END:VCALENDAR
