BEGIN:VCALENDAR
VERSION:2.0
PRODID:icalendar-ruby
CALSCALE:GREGORIAN
METHOD:PUBLISH
BEGIN:VEVENT
DTSTAMP:20260424T092601Z
UID:6bfbcd5f-6e63-4798-bfd8-7950ed40c947
DTSTART;VALUE=DATE:20220520
DTEND;VALUE=DATE:20220520
DESCRIPTION:MadTown BMX
LOCATION:6996 Hickory Lane  Deforest WI 53532 USA
SUMMARY:Local Race Single
URL:/site/bmx_races/492930
END:VEVENT
END:VCALENDAR
