BEGIN:VCALENDAR
VERSION:2.0
PRODID:icalendar-ruby
CALSCALE:GREGORIAN
METHOD:PUBLISH
BEGIN:VEVENT
DTSTAMP:20260425T174009Z
UID:342adec3-1276-4b13-99f3-002450809222
DTSTART;VALUE=DATE:20220123
DTEND;VALUE=DATE:20220123
DESCRIPTION:Mississippi Valley BMX Raceway
LOCATION:2815 West Locust Street  Davenport IA 52804 USA
SUMMARY:Local Race Single
URL:/site/bmx_races/492266
END:VEVENT
END:VCALENDAR
