BEGIN:VCALENDAR
VERSION:2.0
PRODID:icalendar-ruby
CALSCALE:GREGORIAN
METHOD:PUBLISH
BEGIN:VEVENT
DTSTAMP:20260425T011624Z
UID:bee7f78f-f684-4ee6-8c3b-a97055822248
DTSTART;VALUE=DATE:20220118
DTEND;VALUE=DATE:20220118
DESCRIPTION:River City BMX
LOCATION:251 Ne Agness  Grants Pass OR 97526 USA
SUMMARY:Local Race Single
URL:/site/bmx_races/492182
END:VEVENT
END:VCALENDAR
