BEGIN:VCALENDAR
VERSION:2.0
PRODID:icalendar-ruby
CALSCALE:GREGORIAN
METHOD:PUBLISH
BEGIN:VEVENT
DTSTAMP:20260424T144612Z
UID:dedda869-ecad-460e-b84a-5e9ba44dfb99
DTSTART;VALUE=DATE:20220208
DTEND;VALUE=DATE:20220208
DESCRIPTION:Shelby Farms BMX
LOCATION:6435 Walnut Grove Rd  Memphis TN 38119 USA
SUMMARY:Local Race Single
URL:/site/bmx_races/492023
END:VEVENT
END:VCALENDAR
