BEGIN:VCALENDAR
VERSION:2.0
PRODID:icalendar-ruby
CALSCALE:GREGORIAN
METHOD:PUBLISH
BEGIN:VEVENT
DTSTAMP:20260425T115218Z
UID:d5f32e42-60ee-41da-a222-eb7e554b66ea
DTSTART;VALUE=DATE:20220817
DTEND;VALUE=DATE:20220817
DESCRIPTION:Crown Mountain BMX Park
LOCATION:501 Eagle County Drive  El Jebel CO 81623 USA
SUMMARY:Local Race Single
URL:/site/bmx_races/491646
END:VEVENT
END:VCALENDAR
