BEGIN:VCALENDAR
VERSION:2.0
PRODID:icalendar-ruby
CALSCALE:GREGORIAN
METHOD:PUBLISH
BEGIN:VEVENT
DTSTAMP:20260425T024656Z
UID:0a2f2056-309d-40a6-bdf5-4a21b49c0e81
DTSTART;VALUE=DATE:20221111
DTEND;VALUE=DATE:20221111
DESCRIPTION:St. Peters BMX
LOCATION:100 Brown Rd  St. Peters MO 63376 USA
SUMMARY:Local Race Single
URL:/site/bmx_races/491513
END:VEVENT
END:VCALENDAR
