BEGIN:VCALENDAR
VERSION:2.0
PRODID:icalendar-ruby
CALSCALE:GREGORIAN
METHOD:PUBLISH
BEGIN:VEVENT
DTSTAMP:20260424T115219Z
UID:6f918bfe-df0c-4c66-a0ce-9fed61cb7001
DTSTART;VALUE=DATE:20221006
DTEND;VALUE=DATE:20221006
DESCRIPTION:ORL BMX
LOCATION:4801 W Colonial Dr  Orlando FL 32808 USA
SUMMARY:Local Race Single
URL:/site/bmx_races/490735
END:VEVENT
END:VCALENDAR
