BEGIN:VCALENDAR
VERSION:2.0
PRODID:icalendar-ruby
CALSCALE:GREGORIAN
METHOD:PUBLISH
BEGIN:VEVENT
DTSTAMP:20260424T234001Z
UID:1877c44a-d1ca-48b3-b3e6-f81a576f452a
DTSTART;VALUE=DATE:20220417
DTEND;VALUE=DATE:20220417
DESCRIPTION:Goodyear BMX Raceway
LOCATION:15660 W Roeser Rd  Goodyear AZ 85338 USA
SUMMARY:Local Race Single
URL:/site/bmx_races/490201
END:VEVENT
END:VCALENDAR
