BEGIN:VCALENDAR
VERSION:2.0
PRODID:icalendar-ruby
CALSCALE:GREGORIAN
METHOD:PUBLISH
BEGIN:VEVENT
DTSTAMP:20260424T233635Z
UID:5749e0ce-7a66-4969-bd74-85be3826c0ab
DTSTART;VALUE=DATE:20220731
DTEND;VALUE=DATE:20220731
DESCRIPTION:Music City BMX Association
LOCATION:2901 Bell Road  Nashville TN 37217 USA
SUMMARY:Local Race Single
URL:/site/bmx_races/489816
END:VEVENT
END:VCALENDAR
