BEGIN:VCALENDAR
VERSION:2.0
PRODID:icalendar-ruby
CALSCALE:GREGORIAN
METHOD:PUBLISH
BEGIN:VEVENT
DTSTAMP:20260424T084518Z
UID:87f12de0-6f04-4c5b-b468-95d8fa05b62c
DTSTART;VALUE=DATE:20220306
DTEND;VALUE=DATE:20220306
DESCRIPTION:Music City BMX Association
LOCATION:2901 Bell Road  Nashville TN 37217 USA
SUMMARY:Local Race Single
URL:/site/bmx_races/489754
END:VEVENT
END:VCALENDAR
