BEGIN:VCALENDAR
VERSION:2.0
PRODID:icalendar-ruby
CALSCALE:GREGORIAN
METHOD:PUBLISH
BEGIN:VEVENT
DTSTAMP:20260424T143858Z
UID:ec0e7dbc-787f-4ee5-aeb8-f47e7996b7ee
DTSTART;VALUE=DATE:20220220
DTEND;VALUE=DATE:20220220
DESCRIPTION:Music City BMX Association
LOCATION:2901 Bell Road  Nashville TN 37217 USA
SUMMARY:Local Race Single
URL:/site/bmx_races/489738
END:VEVENT
END:VCALENDAR
