BEGIN:VCALENDAR
VERSION:2.0
PRODID:icalendar-ruby
CALSCALE:GREGORIAN
METHOD:PUBLISH
BEGIN:VEVENT
DTSTAMP:20260424T202327Z
UID:0872bd85-e877-411e-b055-cdac6c8f3209
DTSTART;VALUE=DATE:20220227
DTEND;VALUE=DATE:20220227
DESCRIPTION:Manzanita Park BMX
LOCATION: 17100 Castroville Blvd  Prunedale CA 93907 USA
SUMMARY:Local Race Single
URL:/site/bmx_races/489675
END:VEVENT
END:VCALENDAR
