BEGIN:VCALENDAR
VERSION:2.0
PRODID:icalendar-ruby
CALSCALE:GREGORIAN
METHOD:PUBLISH
BEGIN:VEVENT
DTSTAMP:20260425T231516Z
UID:ad366560-6c81-4a9e-8b64-00dfb107a8a1
DTSTART;VALUE=DATE:20220122
DTEND;VALUE=DATE:20220122
DESCRIPTION:Desoto BMX
LOCATION:Grimes Park 500 E. Centre Park Blvd Desoto TX 75115 USA
SUMMARY:Local Race Single
URL:/site/bmx_races/489082
END:VEVENT
END:VCALENDAR
