BEGIN:VCALENDAR
VERSION:2.0
PRODID:icalendar-ruby
CALSCALE:GREGORIAN
METHOD:PUBLISH
BEGIN:VEVENT
DTSTAMP:20260424T084345Z
UID:33434853-cc37-48ba-b6d3-9af60a3522df
DTSTART;VALUE=DATE:20220108
DTEND;VALUE=DATE:20220108
DESCRIPTION:Desoto BMX
LOCATION:Grimes Park 500 E. Centre Park Blvd Desoto TX 75115 USA
SUMMARY:Local Race Single
URL:/site/bmx_races/489080
END:VEVENT
END:VCALENDAR
