BEGIN:VCALENDAR
VERSION:2.0
PRODID:icalendar-ruby
CALSCALE:GREGORIAN
METHOD:PUBLISH
BEGIN:VEVENT
DTSTAMP:20260425T115226Z
UID:41a243c9-82f5-4412-ada6-6c5686d41e52
DTSTART;VALUE=DATE:20220106
DTEND;VALUE=DATE:20220106
DESCRIPTION:RockStar Energy Bike Park
LOCATION:12257 Kukendahl Rd  Houston TX 77067 USA
SUMMARY:Local Race Single
URL:/site/bmx_races/488591
END:VEVENT
END:VCALENDAR
