BEGIN:VCALENDAR
VERSION:2.0
PRODID:icalendar-ruby
CALSCALE:GREGORIAN
METHOD:PUBLISH
BEGIN:VEVENT
DTSTAMP:20260424T164623Z
UID:0498cd6a-8f24-460f-b194-6aa54f4cfe4b
DTSTART;VALUE=DATE:20220729
DTEND;VALUE=DATE:20220729
DESCRIPTION:Black Mountain BMX
LOCATION:24024 N 11th St  Phoenix AZ 85024 USA
SUMMARY:Local Race Single
URL:/site/bmx_races/488337
END:VEVENT
END:VCALENDAR
