BEGIN:VCALENDAR
VERSION:2.0
PRODID:icalendar-ruby
CALSCALE:GREGORIAN
METHOD:PUBLISH
BEGIN:VEVENT
DTSTAMP:20260425T003835Z
UID:ed660de8-e40c-4cb4-9980-f36e2303139e
DTSTART;VALUE=DATE:20220311
DTEND;VALUE=DATE:20220311
DESCRIPTION:Santa Clara PAL BMX
LOCATION:5401 Lafayette Street  Santa Clara CA 95051 USA
SUMMARY:Local Race Single
URL:/site/bmx_races/488096
END:VEVENT
END:VCALENDAR
