BEGIN:VCALENDAR
VERSION:2.0
PRODID:icalendar-ruby
CALSCALE:GREGORIAN
METHOD:PUBLISH
BEGIN:VEVENT
DTSTAMP:20260424T154542Z
UID:1333fcbc-c4b0-4fda-9f4c-3d8d75980d86
DTSTART;VALUE=DATE:20220616
DTEND;VALUE=DATE:20220616
DESCRIPTION:Faribault BMX
LOCATION:South Alexander Park   1010 7th Avenue Nw Faribault MN 55021 USA
SUMMARY:Local Race Single
URL:/site/bmx_races/487897
END:VEVENT
END:VCALENDAR
