BEGIN:VCALENDAR
VERSION:2.0
PRODID:icalendar-ruby
CALSCALE:GREGORIAN
METHOD:PUBLISH
BEGIN:VEVENT
DTSTAMP:20260424T233830Z
UID:e5f6fac5-87c5-4825-b22e-4c4fae0eef5a
DTSTART;VALUE=DATE:20220908
DTEND;VALUE=DATE:20220908
DESCRIPTION:NWA BMX
LOCATION:801 Mc Clure Ave  Lowell AR 72745 USA
SUMMARY:Local Race Single
URL:/site/bmx_races/487869
END:VEVENT
END:VCALENDAR
