BEGIN:VCALENDAR
VERSION:2.0
PRODID:icalendar-ruby
CALSCALE:GREGORIAN
METHOD:PUBLISH
BEGIN:VEVENT
DTSTAMP:20260425T215337Z
UID:fbeb6398-8edc-49fe-b5eb-d2022efcc64d
DTSTART;VALUE=DATE:20220401
DTEND;VALUE=DATE:20220401
DESCRIPTION:Boomtown BMX
LOCATION:17760 Shasta Dam Blvd  Shasta Lake CA 96019 USA
SUMMARY:Local Race Single
URL:/site/bmx_races/487697
END:VEVENT
END:VCALENDAR
