BEGIN:VCALENDAR
VERSION:2.0
PRODID:icalendar-ruby
CALSCALE:GREGORIAN
METHOD:PUBLISH
BEGIN:VEVENT
DTSTAMP:20260425T214158Z
UID:92c2711c-0863-4d46-b06c-ebbe286004f9
DTSTART;VALUE=DATE:20220318
DTEND;VALUE=DATE:20220318
DESCRIPTION:Boomtown BMX
LOCATION:17760 Shasta Dam Blvd  Shasta Lake CA 96019 USA
SUMMARY:Local Race Single
URL:/site/bmx_races/487691
END:VEVENT
END:VCALENDAR
