BEGIN:VCALENDAR
VERSION:2.0
PRODID:icalendar-ruby
CALSCALE:GREGORIAN
METHOD:PUBLISH
BEGIN:VEVENT
DTSTAMP:20260424T220232Z
UID:54d5d042-7265-4960-809d-a7adb97768a9
DTSTART;VALUE=DATE:20220717
DTEND;VALUE=DATE:20220717
DESCRIPTION:Spreckels Park BMX
LOCATION:941 Spreckels Ave  Manteca CA 95336 USA
SUMMARY:Local Race Single
URL:/site/bmx_races/487626
END:VEVENT
END:VCALENDAR
