BEGIN:VCALENDAR
VERSION:2.0
PRODID:icalendar-ruby
CALSCALE:GREGORIAN
METHOD:PUBLISH
BEGIN:VEVENT
DTSTAMP:20260425T171916Z
UID:8399140d-a801-4ee9-9277-ce8bc3fef5ea
DTSTART;VALUE=DATE:20221015
DTEND;VALUE=DATE:20221015
DESCRIPTION:Trilogy Park BMX
LOCATION:75 W King St  Pottstown PA 19464 USA
SUMMARY:Local Race Single
URL:/site/bmx_races/487290
END:VEVENT
END:VCALENDAR
