BEGIN:VCALENDAR
VERSION:2.0
PRODID:icalendar-ruby
CALSCALE:GREGORIAN
METHOD:PUBLISH
BEGIN:VEVENT
DTSTAMP:20260424T113656Z
UID:ceb0cf74-059a-400d-8880-85a66c472a3d
DTSTART;VALUE=DATE:20220408
DTEND;VALUE=DATE:20220408
DESCRIPTION:Burlington BMX
LOCATION:1450 Graham Street  Burlington NC 27217 USA
SUMMARY:Local Race Single
URL:/site/bmx_races/486857
END:VEVENT
END:VCALENDAR
