BEGIN:VCALENDAR
VERSION:2.0
PRODID:icalendar-ruby
CALSCALE:GREGORIAN
METHOD:PUBLISH
BEGIN:VEVENT
DTSTAMP:20260424T212552Z
UID:dd8271a8-5e10-4838-bc87-11832063bd45
DTSTART;VALUE=DATE:20220124
DTEND;VALUE=DATE:20220124
DESCRIPTION:Emerald Valley BMX
LOCATION:2715 Leo Harris Pkwy  Eugene OR 97402 USA
SUMMARY:Local Race Single
URL:/site/bmx_races/486514
END:VEVENT
END:VCALENDAR
