BEGIN:VCALENDAR
VERSION:2.0
PRODID:icalendar-ruby
CALSCALE:GREGORIAN
METHOD:PUBLISH
BEGIN:VEVENT
DTSTAMP:20260425T142056Z
UID:b8ffd792-0b9e-4bb6-9856-119a0d80b683
DTSTART;VALUE=DATE:20220613
DTEND;VALUE=DATE:20220613
DESCRIPTION:Nellis BMX
LOCATION:4949 E Cheyenne Ave  Las Vegas NV 89115 USA
SUMMARY:BMX Registration Day Single
URL:/site/bmx_races/485926
END:VEVENT
END:VCALENDAR
