BEGIN:VCALENDAR
VERSION:2.0
PRODID:icalendar-ruby
CALSCALE:GREGORIAN
METHOD:PUBLISH
BEGIN:VEVENT
DTSTAMP:20260424T144044Z
UID:95105b0b-04ee-43b6-a814-9534031f3e3b
DTSTART;VALUE=DATE:20220619
DTEND;VALUE=DATE:20220619
DESCRIPTION:Kamloops BMX
LOCATION:200  1550 Ord Rd   Kamloops BC V2B1N3 CAN
SUMMARY:Provincial Race Double
URL:/site/bmx_races/485147
END:VEVENT
END:VCALENDAR
