BEGIN:VCALENDAR
VERSION:2.0
PRODID:icalendar-ruby
CALSCALE:GREGORIAN
METHOD:PUBLISH
BEGIN:VEVENT
DTSTAMP:20260425T174001Z
UID:15d16405-c3f6-4acc-8e9c-c736a967a689
DTSTART;VALUE=DATE:20220709
DTEND;VALUE=DATE:20220709
DESCRIPTION:Speedway BMX
LOCATION:5639 Benore  Toledo OH 43612 USA
SUMMARY:Race for Life Single
URL:/site/bmx_races/484808
END:VEVENT
END:VCALENDAR
