BEGIN:VCALENDAR
VERSION:2.0
PRODID:icalendar-ruby
CALSCALE:GREGORIAN
METHOD:PUBLISH
BEGIN:VEVENT
DTSTAMP:20260425T142111Z
UID:912c980f-7241-4dac-9959-8d8697e2a829
DTSTART;VALUE=DATE:20131019
DTEND;VALUE=DATE:20131019
DESCRIPTION:North Bay BMX
LOCATION:3291 Streblow Dr  Napa CA 94558 USA
SUMMARY:Earned Double
URL:/site/bmx_races/48477
END:VEVENT
END:VCALENDAR
