BEGIN:VCALENDAR
VERSION:2.0
PRODID:icalendar-ruby
CALSCALE:GREGORIAN
METHOD:PUBLISH
BEGIN:VEVENT
DTSTAMP:20260424T215354Z
UID:62345471-4fc2-4fbe-a965-3749058f5637
DTSTART;VALUE=DATE:20220611
DTEND;VALUE=DATE:20220611
DESCRIPTION:Cross Creek BMX
LOCATION:8115 Parkglen Dr.  Fountain CO 80817 USA
SUMMARY:Local Race Single
URL:/site/bmx_races/484765
END:VEVENT
END:VCALENDAR
