BEGIN:VCALENDAR
VERSION:2.0
PRODID:icalendar-ruby
CALSCALE:GREGORIAN
METHOD:PUBLISH
BEGIN:VEVENT
DTSTAMP:20260425T024403Z
UID:5372f4d1-a4f4-4c05-9406-1e2e0cd66da3
DTSTART;VALUE=DATE:20220828
DTEND;VALUE=DATE:20220828
DESCRIPTION:Rockford BMX
LOCATION:4950 Safford Rd  Rockford IL 61101 USA
SUMMARY:Race for Life
URL:/site/bmx_races/484673
END:VEVENT
END:VCALENDAR
