BEGIN:VCALENDAR
VERSION:2.0
PRODID:icalendar-ruby
CALSCALE:GREGORIAN
METHOD:PUBLISH
BEGIN:VEVENT
DTSTAMP:20260425T231630Z
UID:4c368262-c68e-45b1-a7a3-e446c23a7b81
DTSTART;VALUE=DATE:20220730
DTEND;VALUE=DATE:20220730
DESCRIPTION:Woodland BMX
LOCATION:880 Victory Hwy  West Greenwich RI 02817 USA
SUMMARY:Local Race Single
URL:/site/bmx_races/484644
END:VEVENT
END:VCALENDAR
