BEGIN:VCALENDAR
VERSION:2.0
PRODID:icalendar-ruby
CALSCALE:GREGORIAN
METHOD:PUBLISH
BEGIN:VEVENT
DTSTAMP:20260424T215256Z
UID:64f282d7-a4a5-4957-93e2-3d4977fec6b6
DTSTART;VALUE=DATE:20221112
DTEND;VALUE=DATE:20221112
DESCRIPTION:Rum River BMX
LOCATION:Isanti Parkway Northwest  Isanti MN 55040 USA
SUMMARY:Local Race Single
URL:/site/bmx_races/484573
END:VEVENT
END:VCALENDAR
