BEGIN:VCALENDAR
VERSION:2.0
PRODID:icalendar-ruby
CALSCALE:GREGORIAN
METHOD:PUBLISH
BEGIN:VEVENT
DTSTAMP:20260424T220218Z
UID:32e8f3d5-8db7-445a-b47a-e601950555ac
DTSTART;VALUE=DATE:20220809
DTEND;VALUE=DATE:20220809
DESCRIPTION:Rum River BMX
LOCATION:Isanti Parkway Northwest  Isanti MN 55040 USA
SUMMARY:Local Race Single
URL:/site/bmx_races/484514
END:VEVENT
END:VCALENDAR
