BEGIN:VCALENDAR
VERSION:2.0
PRODID:icalendar-ruby
CALSCALE:GREGORIAN
METHOD:PUBLISH
BEGIN:VEVENT
DTSTAMP:20260424T190319Z
UID:c03e71d0-504b-4876-8710-f6e50956a0fa
DTSTART;VALUE=DATE:20220721
DTEND;VALUE=DATE:20220721
DESCRIPTION:Waukegan BMX
LOCATION:2785 W Yorkhouse Rd  Waukegan IL 60085 USA
SUMMARY:Local Race Single
URL:/site/bmx_races/484387
END:VEVENT
END:VCALENDAR
