BEGIN:VCALENDAR
VERSION:2.0
PRODID:icalendar-ruby
CALSCALE:GREGORIAN
METHOD:PUBLISH
BEGIN:VEVENT
DTSTAMP:20260424T194639Z
UID:8953aacc-dcd7-452e-84a5-5a7d576d41ca
DTSTART;VALUE=DATE:20211117
DTEND;VALUE=DATE:20211117
DESCRIPTION:Grand Prix BMX at SoCal Fair
LOCATION:18700 Lake Perris Dr  Perris CA 92571 USA
SUMMARY:Local Race Single
URL:/site/bmx_races/484287
END:VEVENT
END:VCALENDAR
