BEGIN:VCALENDAR
VERSION:2.0
PRODID:icalendar-ruby
CALSCALE:GREGORIAN
METHOD:PUBLISH
BEGIN:VEVENT
DTSTAMP:20260425T231513Z
UID:c2eaafbf-8934-4e08-9647-c41605dba9a7
DTSTART;VALUE=DATE:20220309
DTEND;VALUE=DATE:20220309
DESCRIPTION:Oak Creek BMX
LOCATION:648 Riverside Ave  Roseville CA 95678 USA
SUMMARY:Local Race Single
URL:/site/bmx_races/484040
END:VEVENT
END:VCALENDAR
