BEGIN:VCALENDAR
VERSION:2.0
PRODID:icalendar-ruby
CALSCALE:GREGORIAN
METHOD:PUBLISH
BEGIN:VEVENT
DTSTAMP:20260424T164555Z
UID:36e3893f-52e4-43a8-8278-175e6eaf634f
DTSTART;VALUE=DATE:20220212
DTEND;VALUE=DATE:20220212
DESCRIPTION:Oak Creek BMX
LOCATION:648 Riverside Ave  Roseville CA 95678 USA
SUMMARY:Local Race Single
URL:/site/bmx_races/484030
END:VEVENT
END:VCALENDAR
