BEGIN:VCALENDAR
VERSION:2.0
PRODID:icalendar-ruby
CALSCALE:GREGORIAN
METHOD:PUBLISH
BEGIN:VEVENT
DTSTAMP:20260424T220336Z
UID:363e5ba7-a5e7-4fdf-9fe3-70fcef60a4d9
DTSTART;VALUE=DATE:20221119
DTEND;VALUE=DATE:20221119
DESCRIPTION:Tanglewood BMX
LOCATION:4061 Clemmons Rd  Clemmons NC 27012  USA
SUMMARY:Local Race Single
URL:/site/bmx_races/483867
END:VEVENT
END:VCALENDAR
