BEGIN:VCALENDAR
VERSION:2.0
PRODID:icalendar-ruby
CALSCALE:GREGORIAN
METHOD:PUBLISH
BEGIN:VEVENT
DTSTAMP:20260424T233817Z
UID:d921e2f2-e330-43db-b515-53bdb6bf7771
DTSTART;VALUE=DATE:20211204
DTEND;VALUE=DATE:20211204
DESCRIPTION:Pearland BMX
LOCATION:5657 Morning Dove Ln  Alvin TX 77511 USA
SUMMARY:Earned Double
URL:/site/bmx_races/483519
END:VEVENT
END:VCALENDAR
