BEGIN:VCALENDAR
VERSION:2.0
PRODID:icalendar-ruby
CALSCALE:GREGORIAN
METHOD:PUBLISH
BEGIN:VEVENT
DTSTAMP:20260425T201713Z
UID:6f2e7bab-8add-453b-b198-edd353603f44
DTSTART;VALUE=DATE:20220513
DTEND;VALUE=DATE:20220514
DESCRIPTION:South Park BMX
LOCATION:800 East Park Drive  Bethel Park PA 15102 USA
SUMMARY:State Race Weekend
URL:/site/bmx_races/483231
END:VEVENT
END:VCALENDAR
