BEGIN:VCALENDAR
VERSION:2.0
PRODID:icalendar-ruby
CALSCALE:GREGORIAN
METHOD:PUBLISH
BEGIN:VEVENT
DTSTAMP:20260425T202213Z
UID:58886df0-8a89-440f-a088-2a4023f09d59
DTSTART;VALUE=DATE:20220312
DTEND;VALUE=DATE:20220312
DESCRIPTION:Rock Hill BMX Supercross Track
LOCATION:1307 Riverwalk Parkway  Rock Hill SC 29730 USA
SUMMARY:State Race Double
URL:/site/bmx_races/483226
END:VEVENT
END:VCALENDAR
