BEGIN:VCALENDAR
VERSION:2.0
PRODID:icalendar-ruby
CALSCALE:GREGORIAN
METHOD:PUBLISH
BEGIN:VEVENT
DTSTAMP:20260424T095008Z
UID:dfef8e44-3907-421b-8a15-6ae677c51a5c
DTSTART;VALUE=DATE:20220730
DTEND;VALUE=DATE:20220730
DESCRIPTION:River Valley BMX
LOCATION:7800 Riverside Rd E  Sumner WA 98360 USA
SUMMARY:Gold Cup Qualifier Triple
URL:/site/bmx_races/482686
END:VEVENT
END:VCALENDAR
