BEGIN:VCALENDAR
VERSION:2.0
PRODID:icalendar-ruby
CALSCALE:GREGORIAN
METHOD:PUBLISH
BEGIN:VEVENT
DTSTAMP:20260424T104309Z
UID:5861a776-938d-4fe9-98ed-716a20666850
DTSTART;VALUE=DATE:20220521
DTEND;VALUE=DATE:20220521
DESCRIPTION:River City BMX
LOCATION:251 Ne Agness  Grants Pass OR 97526 USA
SUMMARY:State Race Triple
URL:/site/bmx_races/482684
END:VEVENT
END:VCALENDAR
