BEGIN:VCALENDAR
VERSION:2.0
PRODID:icalendar-ruby
CALSCALE:GREGORIAN
METHOD:PUBLISH
BEGIN:VEVENT
DTSTAMP:20260424T215339Z
UID:ac89058b-400d-4d92-bb85-f1377d1c1ec0
DTSTART;VALUE=DATE:20221009
DTEND;VALUE=DATE:20221009
DESCRIPTION:Richfield Park BMX
LOCATION:6550 N Irish Road  Davison MI 48423 USA
SUMMARY:Local Race Single
URL:/site/bmx_races/482474
END:VEVENT
END:VCALENDAR
