BEGIN:VCALENDAR
VERSION:2.0
PRODID:icalendar-ruby
CALSCALE:GREGORIAN
METHOD:PUBLISH
BEGIN:VEVENT
DTSTAMP:20260424T194732Z
UID:837bd7aa-0554-4494-85d8-3e4ab76ff7c4
DTSTART;VALUE=DATE:20220914
DTEND;VALUE=DATE:20220914
DESCRIPTION:Richfield Park BMX
LOCATION:6550 N Irish Road  Davison MI 48423 USA
SUMMARY:Local Race Single
URL:/site/bmx_races/482467
END:VEVENT
END:VCALENDAR
