BEGIN:VCALENDAR
VERSION:2.0
PRODID:icalendar-ruby
CALSCALE:GREGORIAN
METHOD:PUBLISH
BEGIN:VEVENT
DTSTAMP:20260424T094914Z
UID:b489d243-7af6-429f-afd3-64b0ff80bcc4
DTSTART;VALUE=DATE:20220615
DTEND;VALUE=DATE:20220615
DESCRIPTION:Heartland BMX
LOCATION:4801 Sw Shunga Dr  Topeka KS 66614 USA
SUMMARY:Local Race Single
URL:/site/bmx_races/481964
END:VEVENT
END:VCALENDAR
