BEGIN:VCALENDAR
VERSION:2.0
PRODID:icalendar-ruby
CALSCALE:GREGORIAN
METHOD:PUBLISH
BEGIN:VEVENT
DTSTAMP:20260425T163354Z
UID:06587820-a5d9-4d02-8a7f-546782b980fb
DTSTART;VALUE=DATE:20220327
DTEND;VALUE=DATE:20220327
DESCRIPTION:Chesapeake BMX
LOCATION:726 Donaldson Avenue  Severn MD 21144 USA
SUMMARY:Local Race Single
URL:/site/bmx_races/481867
END:VEVENT
END:VCALENDAR
