BEGIN:VCALENDAR
VERSION:2.0
PRODID:icalendar-ruby
CALSCALE:GREGORIAN
METHOD:PUBLISH
BEGIN:VEVENT
DTSTAMP:20260424T185953Z
UID:de331e67-a73d-4b6d-bb41-6d2d79857e67
DTSTART;VALUE=DATE:20221014
DTEND;VALUE=DATE:20221014
DESCRIPTION:Park City BMX
LOCATION:6801 N Hydraulic  Park City KS 67219 USA
SUMMARY:Local Race Single
URL:/site/bmx_races/481711
END:VEVENT
END:VCALENDAR
